BEGIN:VCALENDAR
VERSION:2.0
PRODID:-//Library Market//iCal Export//EN
BEGIN:VEVENT
SUMMARY:Free Comic Book Day
UID:12361
DTSTAMP:20260424T012700Z
DTSTART:20260502T140000Z
DTEND:20260502T190000Z
LOCATION:18 Mohawk Street, Cohoes, NY 12047, United States
ROOM: Free Comic Book Day
DESCRIPTION:Free Comic Book Day Sponsored by Cromulent. Free Comic Books A
 ll Day* while supplies last.
URL:https://uhls.librarycalendar.com/event/free-comic-book-day-12361
END:VEVENT
END:VCALENDAR
