BEGIN:VCALENDAR
VERSION:2.0
PRODID:-//Library Market//iCal Export//EN
BEGIN:VEVENT
SUMMARY:Library Week Proclamation Presentation
UID:12359
DTSTAMP:20260424T012700Z
DTSTART:20260423T150000Z
DTEND:20260423T153000Z
LOCATION:18 Mohawk Street, Cohoes, NY 12047, United States
ROOM: Library Week Proclamation Presentation
DESCRIPTION:The Friends of the Library invite you to join us in celebratin
 g National Library Week on Thursday, April 23, 2026 in the library. Mayor 
 Keeler will present a proclamation of Library Week followed by a brief pre
 sentation of gifts to the library staff by the Friends.
URL:https://uhls.librarycalendar.com/event/library-week-proclamation-prese
 ntation-12359
END:VEVENT
END:VCALENDAR
