BEGIN:VCALENDAR
VERSION:2.0
PRODID:-//Library Market//iCal Export//EN
BEGIN:VEVENT
SUMMARY:Library Week Celebration Day
UID:12354
DTSTAMP:20260421T062300Z
DTSTART:20260425T040000Z
DTEND:20260425T040000Z
LOCATION:18 Mohawk Street, Cohoes, NY 12047, United States
ROOM: Library Week Celebration Day
DESCRIPTION:Join us to celebrate Library Week!  Our schedule for the day 
 includes:All Day: Poetry Day Activities11:00 AM: Storytime1:00 PM: Present
 ation of the concept plans for our new library &amp; virtual tour of space
  at 75 Remsen Street 
URL:https://uhls.librarycalendar.com/event/library-week-celebration-day-12
 354
END:VEVENT
END:VCALENDAR
