BEGIN:VCALENDAR
VERSION:2.0
PRODID:-//Library Market//iCal Export//EN
BEGIN:VEVENT
SUMMARY:Beach Party Ballet
UID:12353
DTSTAMP:20260421T062300Z
DTSTART:20260612T203000Z
DTEND:20260612T211500Z
LOCATION:4118 Route 2, Troy, NY 12180, United States
ROOM: Beach Party Ballet
DESCRIPTION:Beach Party BalletFriday, June 12 at 4:30with Ms. Tori
URL:https://uhls.librarycalendar.com/event/beach-party-ballet-12353
END:VEVENT
END:VCALENDAR
