BEGIN:VCALENDAR
VERSION:2.0
PRODID:-//Library Market//iCal Export//EN
BEGIN:VEVENT
SUMMARY:Fairy Tale Ballet
UID:12352
DTSTAMP:20260421T232600Z
DTSTART:20260522T203000Z
DTEND:20260522T211500Z
LOCATION:4118 Route 2, Troy, NY 12180, United States
ROOM: Fairy Tale Ballet
DESCRIPTION:Fairy Tale BalletCome Dance with Ms. Tori!Friday, May 22 at 4:
 30
URL:https://uhls.librarycalendar.com/event/fairy-tale-ballet-12352
END:VEVENT
END:VCALENDAR
