BEGIN:VCALENDAR
VERSION:2.0
PRODID:-//Library Market//iCal Export//EN
BEGIN:VEVENT
SUMMARY:Cooking Class Boil Eggs &amp; Mini Pizza
UID:12346
DTSTAMP:20260421T232600Z
DTSTART:20260507T203000Z
DTEND:20260507T213000Z
LOCATION:4 N. Lyons Ave., Menands, NY 12204, United States
ROOM: Cooking Class Boil Eggs &amp; Mini Pizza
DESCRIPTION:Join us for a cooking class!We have limited spots remaining, s
 o be sure to reserve yours soon. To sign up, please email sherry@menandsli
 brary.org or call 518-463-4035.We hope to see you there!
URL:https://uhls.librarycalendar.com/event/cooking-class-boil-eggs-mini-pi
 zza-12346
END:VEVENT
END:VCALENDAR
