BEGIN:VCALENDAR
VERSION:2.0
PRODID:-//Library Market//iCal Export//EN
BEGIN:VEVENT
SUMMARY:Little Ones Playtime
UID:11909
DTSTAMP:20260424T023500Z
DTSTART:20260502T150000Z
DTEND:20260503T200000Z
LOCATION:85 South Main Street, Castleton, NY 12033, United States
ROOM: Little Ones Playtime
DESCRIPTION:Little ones ages birth to 5 years are invited to drop in any t
 ime on Saturday or Sunday to play with a special assortment of fun toys ge
 ared toward young children.
URL:https://uhls.librarycalendar.com/event/little-ones-playtime-11909
END:VEVENT
END:VCALENDAR
